BEGIN:VCALENDAR
VERSION:2.0
PRODID:icalendar-ruby
CALSCALE:GREGORIAN
METHOD:PUBLISH
BEGIN:VEVENT
DTSTAMP:20260422T154052Z
UID:14-717440@jplchurch.org
DTSTART:20260922T140000Z
DTEND:20260922T160000Z
CLASS:PUBLIC
CREATED:20260422T090235
DESCRIPTION:
LAST-MODIFIED:20260422T090235
LOCATION:
SUMMARY:Quilting
URL;VALUE=URI:https://www.jplchurch.org/events/quilting/2026-09-22
ATTACH;FILENAME=Quilt-2.jpg;FMTTYPE=image/jpeg:https://dq5pwpg1q8ru0.cloudf
 ront.net/2022/08/11/08/28/52/3e4389ac-3e19-4f19-802a-823b6842471c/Quilt-2.
 jpg
END:VEVENT
END:VCALENDAR
