BEGIN:VCALENDAR
VERSION:2.0
PRODID:icalendar-ruby
CALSCALE:GREGORIAN
METHOD:PUBLISH
BEGIN:VEVENT
DTSTAMP:20260422T110024Z
UID:14-716669@jplchurch.org
DTSTART:20260901T140000Z
DTEND:20260901T160000Z
CLASS:PUBLIC
CREATED:20260421T190809
DESCRIPTION:
LAST-MODIFIED:20260421T190809
LOCATION:
SUMMARY:Quilting
URL;VALUE=URI:https://www.jplchurch.org/events/quilting/2026-09-01
ATTACH;FILENAME=Quilt-2.jpg;FMTTYPE=image/jpeg:https://dq5pwpg1q8ru0.cloudf
 ront.net/2022/08/11/08/28/52/3e4389ac-3e19-4f19-802a-823b6842471c/Quilt-2.
 jpg
END:VEVENT
END:VCALENDAR
